BEGIN:VCALENDAR
VERSION:2.0
PRODID:-//Unifursity Furries - ECPv6.15.20//NONSGML v1.0//EN
CALSCALE:GREGORIAN
METHOD:PUBLISH
X-ORIGINAL-URL:https://unifursityfurries.com
X-WR-CALDESC:Events for Unifursity Furries
REFRESH-INTERVAL;VALUE=DURATION:PT1H
X-Robots-Tag:noindex
X-PUBLISHED-TTL:PT1H
BEGIN:VTIMEZONE
TZID:UTC
BEGIN:STANDARD
TZOFFSETFROM:+0000
TZOFFSETTO:+0000
TZNAME:UTC
DTSTART:20240101T000000
END:STANDARD
END:VTIMEZONE
BEGIN:VEVENT
DTSTART;TZID=UTC:20251108T190000
DTEND;TZID=UTC:20251108T230000
DTSTAMP:20260425T121335
CREATED:20251108T190028Z
LAST-MODIFIED:20250928T190704Z
UID:10896-1762628400-1762642800@unifursityfurries.com
SUMMARY:Unifursity FurBowl
DESCRIPTION:Hello everyone! Unifursity Furries at UMD is excited to announce that we will be once again hosting a FurBowl! This event is more than your regular furbowl. On Saturday\, November 8th from 7pm-11pm join us for unlimited bowling\, pool\, and videogames! This event is FREE to attend\, however donations are always welcome to help us continue to offer the furbowl as a recurring event. Fursuits and other furry apparel are WELCOME\, and we DO have a headless lounge! \n\n\nThe furbowl is located in TerpZone\, 3972 Campus Dr \n\n\nCollege Park\, MD 20742 \n\n\nFree parking is available at regents drive garage\, a 5 minute walk. You do NOT need to go to the roof for guest parking. The entire garage (except the garage) is FREE on Saturdays. Please be sure to read the posted signs.  \n\n\n200 Regents Dr \n\n\nCollege Park\, MD 20742 \n\n\nIf anyone has any questions\, please feel free to reach out! Contact information\, donation links\, and more can be found on our website and other socials: https://linktr.ee/unifursityfurries \n\n\n\n\n\n\nA map from the parking lot to the venue can be found here:
URL:https://unifursityfurries.com/event/unifursityfurbowl/
LOCATION:Terpzone\, 3972 Campus Dr\, College Park\, MD\, 20740\, United States
END:VEVENT
BEGIN:VEVENT
DTSTART;TZID=UTC:20251108T190000
DTEND;TZID=UTC:20251108T230000
DTSTAMP:20260425T121335
CREATED:20250928T190759Z
LAST-MODIFIED:20250928T193026Z
UID:10928-1762628400-1762642800@unifursityfurries.com
SUMMARY:Unifursity FurBowl: November 8\, 2025
DESCRIPTION:Hello everyone! Unifursity Furries at UMD is excited to announce that we will be once again hosting a FurBowl! This event is more than your regular furbowl. On Saturday\, November 8th from 7pm-11pm join us for unlimited bowling\, pool\, and videogames! This event is FREE to attend\, however donations are always welcome to help us continue to offer the furbowl as a recurring event. Fursuits and other furry apparel are WELCOME\, and we DO have a headless lounge! \n\n\nThe furbowl is located in TerpZone\, 3972 Campus Dr \n\n\nCollege Park\, MD 20742 \n\n\nFree parking is available at regents drive garage\, a 5 minute walk. You do NOT need to go to the roof for guest parking. The entire garage (except the top roof) is FREE on Saturdays. Please be sure to read the posted signs.  \n\n\n200 Regents Dr \n\n\nCollege Park\, MD 20742 \n\n\nIf anyone has any questions\, please feel free to reach out! Contact information\, donation links\, and more can be found on our website and other socials: https://linktr.ee/unifursityfurries \n\n\n\n\n\n\nA map from the parking lot to the venue can be found here:
URL:https://unifursityfurries.com/event/unifursity-furbowl-november-8-2025/
LOCATION:Terpzone\, 3972 Campus Dr\, College Park\, MD\, 20740\, United States
END:VEVENT
END:VCALENDAR